BEGIN:VCALENDAR
VERSION:2.0
PRODID:-//wp-events-plugin.com//7.2.3.1//EN
TZID:America/New_York
X-WR-TIMEZONE:America/New_York
BEGIN:VEVENT
UID:68@bsfnet.org
DTSTART;TZID=America/New_York:20251018T160000
DTEND;TZID=America/New_York:20251018T220000
DTSTAMP:20251005T193241Z
URL:https://bsfnet.org/events/kali-puja-diwali/
SUMMARY:Kali Puja/Diwali 2025
DESCRIPTION:&nbsp\;\n\nOn behalf of the Executive Committee\,  we wish yo
 u all "Shubho Bijaya" and express our heartfelt gratitude for your uncondi
 tional support and participation to make BSF Durgotsav 2025 a grand succes
 s. \n\nAs we look back on this year’s Durga Pujo\, our hearts are still
  full. Over 400 people - families and friends from New Jersey\, Philadelph
 ia\, Chicago and all across Florida.. came together to celebrate Maa Durga
  with unmatched energy and devotion.\n\nNone of this would have been possi
 ble without the generosity of our donors and sponsors\, the tireless dedic
 ation of our volunteers\, the talent of our cultural participants\, and th
 e enthusiasm of everyone who joined in the festivities. Also heartiest con
 gratulations once again to all our protijogita winners - you made us proud
 !  Our sincere THANK YOU to all of you\, Sponsors\, Members\, Attendee
 s\, Volunteers\, Vendors to make it an enjoyable festival for our communit
 y.  \n\nBut our journey this year isn’t over yet…\n\nOn October 18th
 \, we will gather once more for Kali Pujo.. the final celebration of the y
 ear. This isn’t just another event\; it is a night to express gratitude\
 , seek Maa’s blessings\, and end the year together as one family.\n\nThi
 s year is extra special because our new Maa Kali idol\, lovingly crafted i
 n Kumartuli\, has arrived to bless our community for the very first time. 
 Let us come together to welcome Her with the same warmth and spirit that m
 ade Durga Pujo so memorable.\n\nYour presence is what makes our pujo truly
  complete. Let’s gather once more.. sing\, pray\, and celebrate Maa Kali
 ’s fierce love and protection.\n\n\n\n\n\nPre-Registration Rates\n\n\n\n
 \n\n\n\nAll Sponsors - Grand\, Diamond\, Platinum\, Gold\, Silver and Bron
 ze are Free for this event. Thank you for your continued support to the Be
 ngali Society of Florida! We request you to RSVP for your participation.
 \n\nThe pre-registration rates are as follows:\n\n 	Member: $55/adult\n 	N
 on-member: $60/adult\n 	Kids (12-17 years): $30/kid\n 	Non-Member Kids (12
 -17 years): $35/kid\n 	Student: $35/student\n\nPre-registration ends on 
 October 13\, 2025. After this cut-off date\, all rates will increase by $2
 5.\n\n\n\n\nRSVP/Register Below:\n[CP_CALCULATED_FIELDS id="15"]
CATEGORIES:BSF Event - 2025-2026
LOCATION:Sanford Civic Center \, 401 E. Seminole Blvd.\, Sanford\, Fl\, 327
 71\, United States
GEO:28.8136057;-81.26492389999999
X-APPLE-STRUCTURED-LOCATION;VALUE=URI;X-ADDRESS=401 E. Seminole Blvd.\, San
 ford\, Fl\, 32771\, United States;X-APPLE-RADIUS=100;X-TITLE=Sanford Civic
  Center :geo:28.8136057,-81.26492389999999
END:VEVENT
BEGIN:VTIMEZONE
TZID:America/New_York
X-LIC-LOCATION:America/New_York
BEGIN:DAYLIGHT
DTSTART:20250309T030000
TZOFFSETFROM:-0500
TZOFFSETTO:-0400
TZNAME:EDT
END:DAYLIGHT
END:VTIMEZONE
END:VCALENDAR