BEGIN:VCALENDAR
VERSION:2.0
PRODID:-//wp-events-plugin.com//7.2.3.1//EN
TZID:America/New_York
X-WR-TIMEZONE:America/New_York
BEGIN:VEVENT
UID:67@bsfnet.org
DTSTART;TZID=America/New_York;VALUE=DATE:20250926
DTEND;TZID=America/New_York;VALUE=DATE:20250929
DTSTAMP:20250926T031303Z
URL:https://bsfnet.org/events/durgotsav/
SUMMARY:Durgotsav 2025
DESCRIPTION:On July 25\, 2025\, Maa arrived in Orlando\, ushering in a new 
 chapter for the Bengali Society of Florida. Clad in a magnificent new roop
 \, she now awaits the devotion\, joy\, and celebration that this community
  brings to life each year.\n\nIt is with deep excitement that we now open 
 registration for Durgotsav 2025.\n\nThis year’s celebration will feature
  new traditions\, captivating performances\, and three days of cultural an
 d spiritual connection.. all rooted in our shared heritage and community s
 pirit.\n\nVenue: Lyman High School\, Longwood\n\nDirections: Use for Parki
 ng Location\n\nDurgotsav 2025 Highlights:\n\nFriday\, Sep 26: Grand Unvei
 ling\n\n\n 	Grand Unveiling and Maha Sandhya Arati\n 	Classical cultural 
 program by BSF community artists\n 	Live concert by Jayati Chakraborty 
 – the unforgettable voice of Bengal\n\nSaturday\, Sep 27: Full-Day Pujo
 \n\n\n 	Pujo\, Pushpanjali\, and Bhog\n 	Evening Arati and cultural progr
 am\n 	Live concert by Kinjal Chatterjee\, celebrated Sa Re Ga Ma Pa artis
 t\n\nSunday\, Sep 28: Sacred Finale\n\n 	Dhunuchi Naach\n 	Sindur Khela\,
  Lakshmi Puja\, prize distribution and more!\n\nWe invite you to join us 
 to celebrate this auspicious occasion.\n\nRegister now at https://bsfnet
 .org/durgotsav-2025/
CATEGORIES:BSF Event - 2025-2026
LOCATION:Lyman High School\, 865 S Ronald Reagan Blvd\, Longwood\, Florida\
 , 32750\, United States
GEO:28.686389;-81.344869
X-APPLE-STRUCTURED-LOCATION;VALUE=URI;X-ADDRESS=865 S Ronald Reagan Blvd\, 
 Longwood\, Florida\, 32750\, United States;X-APPLE-RADIUS=100;X-TITLE=Lyma
 n High School:geo:28.686389,-81.344869
END:VEVENT
BEGIN:VTIMEZONE
TZID:America/New_York
X-LIC-LOCATION:America/New_York
BEGIN:DAYLIGHT
DTSTART:20250309T030000
TZOFFSETFROM:-0500
TZOFFSETTO:-0400
TZNAME:EDT
END:DAYLIGHT
END:VTIMEZONE
END:VCALENDAR